BEGIN:VCALENDAR
VERSION:2.0
PRODID:-//Bensch Media - ECPv4.4.1.1//NONSGML v1.0//EN
CALSCALE:GREGORIAN
METHOD:PUBLISH
X-WR-CALNAME:Bensch Media
X-ORIGINAL-URL:https://bensch-media.de
X-WR-CALDESC:Events for Bensch Media
BEGIN:VEVENT
DTSTART;TZID=UTC+2:20160206T080000
DTEND;TZID=UTC+2:20160207T170000
DTSTAMP:20260423T100946
CREATED:20160125T104923Z
LAST-MODIFIED:20160125T142326Z
UID:1560-1454745600-1454864400@bensch-media.de
SUMMARY:Monster Energy Girls auf der Zweiradmesse in Leipzig
DESCRIPTION:Monster Energy Girls auf der Zweiradmesse in Leipzig- nach einer zweijährigen Pause\, heißt es für unsere Girls wieder HELLO LEIPZIGER MOTORRADMESSE ;) Wie schon die vergangenen Jahre\, werden Sie wieder die Monster Energy Trial-Show unterstützen und für\, bzw. mit den Fans posen. Wir freuen uns\, Sie wieder beieinem Leipziger Heimspiel dabei zu haben...UNLEASH THE BEAST!\n\n \n\nFür die angegebenden Kontaktdaten\, Adresse\, Richtigkeit der Angaben\, sowie Durchführung der Veranstaltung übernehmen wir keine Haftung!
URL:https://bensch-media.de/event/monster-energy-girls-auf-der-zweiradmesse-in-leipzig/
LOCATION:Messe-Allee 1\, 04356 Leipzig\, 04356\, Deutschland
ATTACH;FMTTYPE=image/jpeg:https://bensch-media.de/wp-content/uploads/2014/09/2012_motorradmesse_leipzig_trial_show_006.jpg
END:VEVENT
END:VCALENDAR